Workbook
Name _: #REF!
Name _: #REF!
Name _: #REF!
Name _: #REF!
Name _: #REF!
Name _: #REF!
Name _: #REF!
Name ___a2: #REF!
Name ___a2: #REF!
Name ___a2: #REF!
Name ___a2: #REF!
Name ___a2: #REF!
Name ___FK1: #REF!
Name ___FK1: #REF!
Name ___FK1: #REF!
Name ___FK1: #REF!
Name ___FK1: #REF!
Name ___m1: [1]Ｇ３０!#REF!
Name ___m1: #REF!
Name ___m1: #REF!
Name ___m1: #REF!
Name ___m1: [1]Ｇ３０!#REF!
Name ___m1: #REF!
Name ___m1: #REF!
Name ___m1: #REF!
Name ___m1: #REF!
Name ___m1: [1]Ｇ３０!#REF!
Name ___m2: [1]Ｇ３０!#REF!
Name ___m2: #REF!
Name ___m2: #REF!
Name ___m2: #REF!
Name ___m2: [1]Ｇ３０!#REF!
Name ___m2: #REF!
Name ___m2: #REF!
Name ___m2: #REF!
Name ___m2: #REF!
Name ___m2: [1]Ｇ３０!#REF!
Name ___m3: [1]Ｇ３０!#REF!
Name ___m3: #REF!
Name ___m3: #REF!
Name ___m3: #REF!
Name ___m3: [1]Ｇ３０!#REF!
Name ___m3: #REF!
Name ___m3: #REF!
Name ___m3: #REF!
Name ___m3: #REF!
Name ___m3: [1]Ｇ３０!#REF!
Name ___m5: [1]Ｇ３０!#REF!
Name ___m5: #REF!
Name ___m5: #REF!
Name ___m5: #REF!
Name ___m5: [1]Ｇ３０!#REF!
Name ___m5: #REF!
Name ___m5: #REF!
Name ___m5: #REF!
Name ___m5: #REF!
Name ___m5: [1]Ｇ３０!#REF!
Name ___p1: #REF!
Name ___p1: #REF!
Name ___p1: #REF!

Sheet 工事看板
A1: 実現しよう災害ゼロ！
A2: 工 事 名 | B2: 給水配管パッキン交換工事
A3: 管理部署名 | B3: 姫路工場〇△部 | C3: 担当者 様 電話番号
C4: 飾磨 一郎
C5: 電話番号 | D5: 〇△〇-〇〇〇〇-〇〇〇〇
A6: 期 間 | B6: 2025年 5 月 2日（木）～ 年 月 日（ ）
A7: 元請会社名 | B7: ABC商事 （株） | C7: 営業担当者
C8: 所属： | D8: 〇△事業部
C9: 氏名： | D9: 中田 次郎
C10: 担当者携帯番号
C11: 000-0000-0000
A12: 元方会社名 | B12: Ｔサポート工業 | C12: 工事責任者 資格番号
C13: 中田 一郎
B14: ＴＥＬ000-1111-2222 継続労災保険番号：12345678910-001 | C14: 資格番号
A15: 施工会社名 | B15: Ｔサポート工業 | C15: 作業責任者
C16: 中田 一郎
B17: ＴＥＬ000-1111-2222 継続労災保険番号：12345678910-001

Sheet 改定
B2: 改訂
B3: ｖ８ | C3: 安全装置解除 or 危険物取扱い作業 事前危険予知（ＫＹ）記録表
B4: ｖ９ | C4: 危険作業について天井裏作業チェックを追加
B5: ｖ１０ | C5: リスク対策書⇒リスクアセスメント変更
B6: ｖ１１ | C6: リスクアセスメント計算式追加

Sheet 工事計画書
A1: 工事計画書 | R1: ※提出〆切：火曜までに翌週分を提出ください ※黄色セル、赤字欄の入力をお願いします | AN1: 提出日 | AQ1: 45408 | BJ1: 工事依頼部署 | BP1: 施設設備・環境管理G
A5: 分類 | J5: 計画工事 | U5: 届出作業一覧 ※火気取扱い作業計画時のみ許可申請が必要となります。 | AZ5: 施工会社名 | BF5: Ｔサポート工業 | BP5: 工事責任者 | BU5: 田中 一郎
A7: 工事名称 | E7: 給水配管パッキン交換工事 | U7: 関連 届出 | Y7: ①高所作業 | AE7: ②電気工事作業 | AK7: ③挟まれ 設備試運転 | AQ7: ④火気取扱い作業
AQ9: 火気使用許可申請 | AZ9: 着手許可 | BF9: 関係部門 | BK9: 発注部門 | BZ9: 施工会社
BF11: 責任者 | BK11: 責任者 | BP11: 係長 | BU11: 担当者 | BZ11: 責任者
BK12: 妻鹿 | BP12: 姫路 | BU12: 須磨 | BZ12: 中田
A13: 予定工期 | E13: 45414 | L13: ～ | Y13: ⑤酸欠作業 | AE13: ⑥重量物取扱い 作業 | AK13: ⑦天井内/火災 報知器近接作業 | AQ13: ⑧防災監視盤 保守登録 依頼表
E17: ※開始日 | M17: ※終了日
A20: 作業日 | E20: 作業時間 | J20: 工事エリア範囲 | P20: 作業場所 (出来るだけ詳細) | U20: 作業人員 | Y20: 作業内容 | AQ20: 届出・危険作業 | AY20: 施工側 担当者 | BH20: 施主側 担当者 | BP20: 備考・コメント・連絡事項（通行規制等）
L21: 柱番号 | N21: 柱番号
A22: =E13 -> 45414 | D22: 年 | E22: 開始から終了予定 | J22: 棟 | K22: 階 | L22: X | M22: Y | N22: X | O22: Y | AQ22: 高所 | AR22: 感電 | AS22: 挟まれ | AT22: 火気 | AU22: 酸欠 | AV22: 重量 | AW22: 天井 | AX22: 防災
A23: =E13-WEEKDAY(E13,2)+1 -> 45411 | D23: 月 | G23: ～ | X23: 名 | CF23: =COUNTA(K23:O23) -> 0
G24: ～ | X24: 名 | CF24: =COUNTA(K24:O24) -> 0
G25: ～ | X25: 名 | CF25: =COUNTA(K25:O25) -> 0
G26: ～ | X26: 名 | CF26: =COUNTA(K26:O26) -> 0
A27: =A23+1 -> 45412 | D27: 火 | G27: ～ | X27: 名 | CF27: =COUNTA(K27:O27) -> 0
G28: ～ | X28: 名 | CF28: =COUNTA(K28:O28) -> 0
G29: ～ | X29: 名 | CF29: =COUNTA(K29:O29) -> 0
G30: ～ | X30: 名 | CF30: =COUNTA(K30:O30) -> 0
A31: =A27+1 -> 45413 | D31: 水 | G31: ～ | X31: 名 | CF31: =COUNTA(K31:O31) -> 0
G32: ～ | X32: 名 | CF32: =COUNTA(K32:O32) -> 0
G33: ～ | X33: 名 | CF33: =COUNTA(K33:O33) -> 0
G34: ～ | X34: 名 | CF34: =COUNTA(K34:O34) -> 0
A35: =A31+1 -> 45414 | D35: 木 | E35: 0.35416667 | G35: ～ | H35: 0.375 | J35: ス | P35: 来客者駐車場 | U35: 10 | X35: 名 | Y35: 作業指示・KY | AY35: 中田 次郎 | BH35: 姫路 三郎 | BP35: 火気はフランジ分解時、固着している場合に使用 | CF35: =COUNTA(K35:O35) -> 0
E36: 0.375 | G36: ～ | H36: 0.6875 | K36: 1 | L36: 6 | M36: 4 | N36: 11 | O36: 6 | P36: 101室 | U36: 10 | X36: 名 | Y36: フランジ分解。パッキン交換。フランジ組立工事 | AQ36: 有 | AR36: 有 | AS36: 有 | AT36: 有 | AV36: 有 | AY36: 中田 次郎 | BH36: 姫路 三郎 | CF36: =COUNTA(K36:O36) -> 5
E37: 0.6875 | G37: ～ | H37: 0.70833333 | K37: 1 | L37: 6 | M37: 4 | N37: 11 | O37: 6 | P37: 101室 | U37: 10 | X37: 名 | Y37: 4S | AR37: 有 | AY37: 中田 次郎 | BH37: 姫路 三郎 | CF37: =COUNTA(K37:O37) -> 5
G38: ～ | X38: 名 | CF38: =COUNTA(K38:O38) -> 0
A39: =A35+1 -> 45415 | D39: 金 | G39: ～ | X39: 名 | CF39: =COUNTA(K39:O39) -> 0
G40: ～ | X40: 名 | CF40: =COUNTA(K40:O40) -> 0
G41: ～ | X41: 名 | CF41: =COUNTA(K41:O41) -> 0
G42: ～ | X42: 名 | CF42: =COUNTA(K42:O42) -> 0
A43: =A39+1 -> 45416 | D43: 土 | G43: ～ | X43: 名 | CF43: =COUNTA(K43:O43) -> 0
G44: ～ | X44: 名 | CF44: =COUNTA(K44:O44) -> 0
G45: ～ | X45: 名 | CF45: =COUNTA(K45:O45) -> 0
G46: ～ | X46: 名 | CF46: =COUNTA(K46:O46) -> 0
A47: =A43+1 -> 45417 | D47: 日 | G47: ～ | X47: 名 | CF47: =COUNTA(K47:O47) -> 0
G48: ～ | X48: 名 | CF48: =COUNTA(K48:O48) -> 0
G49: ～ | X49: 名 | CF49: =COUNTA(K49:O49) -> 0
G50: ～ | X50: 名 | CF50: =COUNTA(K50:O50) -> 0
A51: ＊実績は赤ボールペンで記入すること
...

Sheet 1F
A2: =IF(AND($M$21<8,$O$21>7),1,0) -> 0 | B2: =IF(AND($M$20<8,$O$20>7),1,0) -> 0 | C2: =IF(AND($M$19<8,$O$19>7),1,0) -> 0 | D2: =IF(AND($M$18<8,$O$18>7),1,0) -> 0 | E2: =IF(AND($M$17<8,$O$17>7),1,0) -> 0
A3: =IF(AND($M$21<7,$O$21>6),1,0) -> 0 | B3: =IF(AND($M$20<7,$O$20>6),1,0) -> 0 | C3: =IF(AND($M$19<7,$O$19>6),1,0) -> 0 | D3: =IF(AND($M$18<7,$O$18>6),1,0) -> 0 | E3: =IF(AND($M$17<7,$O$17>6),1,0) -> 0
A4: =IF(AND($M$21<6,$O$21>5),1,0) -> 0 | B4: =IF(AND($M$20<6,$O$20>5),1,0) -> 0 | C4: =IF(AND($M$19<6,$O$19>5),1,0) -> 0 | D4: =IF(AND($M$18<6,$O$18>5),1,0) -> 0 | E4: =IF(AND($M$17<6,$O$17>5),1,0) -> 1
A5: =IF(AND($M$21<5,$O$21>4),1,0) -> 0 | B5: =IF(AND($M$20<5,$O$20>4),1,0) -> 0 | C5: =IF(AND($M$19<5,$O$19>4),1,0) -> 0 | D5: =IF(AND($M$18<5,$O$18>4),1,0) -> 0 | E5: =IF(AND($M$17<5,$O$17>4),1,0) -> 1
A6: =IF(AND($M$21<4,$O$21>3),1,0) -> 0 | B6: =IF(AND($M$20<4,$O$20>3),1,0) -> 0 | C6: =IF(AND($M$19<4,$O$19>3),1,0) -> 0 | D6: =IF(AND($M$18<4,$O$18>3),1,0) -> 0 | E6: =IF(AND($M$17<4,$O$17>3),1,0) -> 0
A7: =IF(AND($M$21<3,$O$21>2),1,0) -> 0 | B7: =IF(AND($M$20<3,$O$20>2),1,0) -> 0 | C7: =IF(AND($M$19<3,$O$19>2),1,0) -> 0 | D7: =IF(AND($M$18<3,$O$18>2),1,0) -> 0 | E7: =IF(AND($M$17<3,$O$17>2),1,0) -> 0
A8: =IF(AND($M$21<2,$O$21>1),1,0) -> 0 | B8: =IF(AND($M$20<2,$O$20>1),1,0) -> 0 | C8: =IF(AND($M$19<2,$O$19>1),1,0) -> 0 | D8: =IF(AND($M$18<2,$O$18>1),1,0) -> 0 | E8: =IF(AND($M$17<2,$O$17>1),1,0) -> 0
F9: =IF(AND($L$17<2,$N$17>1),1,0) -> 0 | G9: =IF(AND($L$17<3,$N$17>2),1,0) -> 0 | H9: =IF(AND($L$17<4,$N$17>3),1,0) -> 0 | I9: =IF(AND($L$17<5,$N$17>4),1,0) -> 0 | J9: =IF(AND($L$17<6,$N$17>5),1,0) -> 0 | K9: =IF(AND($L$17<7,$N$17>6),1,0) -> 1 | L9: =IF(AND($L$17<8,$N$17>7),1,0) -> 1 | M9: =IF(AND($L$17<9,$N$17>8),1,0) -> 1 | N9: =IF(AND($L$17<10,$N$17>9),1,0) -> 1 | O9: =IF(AND($L$17<11,$N$17>10),1,0) -> 1 | P9: =IF(AND($L$17<12,$N$17>11),1,0) -> 0 | Q9: =IF(AND($L$17<13,$N$17>12),1,0) -> 0 | R9: =IF(AND($L$17<14,$N$17>13),1,0) -> 0 | S9: =IF(AND($L$17<15,$N$17>14),1,0) -> 0 | T9: =IF(AND($L$17<16,$N$17>15),1,0) -> 0 | U9: =IF(AND($L$17<17,$N$17>16),1,0) -> 0
F10: =IF(AND($L$18<2,$N$18>1),1,0) -> 0 | G10: =IF(AND($L$18<3,$N$18>2),1,0) -> 0 | H10: =IF(AND($L$18<4,$N$18>3),1,0) -> 0 | I10: =IF(AND($L$18<5,$N$18>4),1,0) -> 0 | J10: =IF(AND($L$18<6,$N$18>5),1,0) -> 0 | K10: =IF(AND($L$18<7,$N$18>6),1,0) -> 0 | L10: =IF(AND($L$18<8,$N$18>7),1,0) -> 0 | M10: =IF(AND($L$18<9,$N$18>8),1,0) -> 0 | N10: =IF(AND($L$18<10,$N$18>9),1,0) -> 0 | O10: =IF(AND($L$18<11,$N$18>10),1,0) -> 0 | P10: =IF(AND($L$18<12,$N$18>11),1,0) -> 0 | Q10: =IF(AND($L$18<13,$N$18>12),1,0) -> 0 | R10: =IF(AND($L$18<14,$N$18>13),1,0) -> 0 | S10: =IF(AND($L$18<15,$N$18>14),1,0) -> 0 | T10: =IF(AND($L$18<16,$N$18>15),1,0) -> 0 | U10: =IF(AND($L$18<17,$N$18>16),1,0) -> 0
F11: =IF(AND($L$19<2,$N$19>1),1,0) -> 0 | G11: =IF(AND($L$19<3,$N$19>2),1,0) -> 0 | H11: =IF(AND($L$19<4,$N$19>3),1,0) -> 0 | I11: =IF(AND($L$19<5,$N$19>4),1,0) -> 0 | J11: =IF(AND($L$19<6,$N$19>5),1,0) -> 0 | K11: =IF(AND($L$19<7,$N$19>6),1,0) -> 0 | L11: =IF(AND($L$19<8,$N$19>7),1,0) -> 0 | M11: =IF(AND($L$19<9,$N$19>8),1,0) -> 0 | N11: =IF(AND($L$19<10,$N$19>9),1,0) -> 0 | O11: =IF(AND($L$19<11,$N$19>10),1,0) -> 0 | P11: =IF(AND($L$19<12,$N$19>11),1,0) -> 0 | Q11: =IF(AND($L$19<13,$N$19>12),1,0) -> 0 | R11: =IF(AND($L$19<14,$N$19>13),1,0) -> 0 | S11: =IF(AND($L$19<15,$N$19>14),1,0) -> 0 | T11: =IF(AND($L$19<16,$N$19>15),1,0) -> 0 | U11: =IF(AND($L$19<17,$N$19>16),1,0) -> 0
F12: =IF(AND($L$20<2,$N$20>1),1,0) -> 0 | G12: =IF(AND($L$20<3,$N$20>2),1,0) -> 0 | H12: =IF(AND($L$20<4,$N$20>3),1,0) -> 0 | I12: =IF(AND($L$20<5,$N$20>4),1,0) -> 0 | J12: =IF(AND($L$20<6,$N$20>5),1,0) -> 0 | K12: =IF(AND($L$20<7,$N$20>6),1,0) -> 0 | L12: =IF(AND($L$20<8,$N$20>7),1,0) -> 0 | M12: =IF(AND($L$20<9,$N$20>8),1,0) -> 0 | N12: =IF(AND($L$20<10,$N$20>9),1,0) -> 0 | O12: =IF(AND($L$20<11,$N$20>10),1,0) -> 0 | P12: =IF(AND($L$20<12,$N$20>11),1,0) -> 0 | Q12: =IF(AND($L$20<13,$N$20>12),1,0) -> 0 | R12: =IF(AND($L$20<14,$N$20>13),1,0) -> 0 | S12: =IF(AND($L$20<15,$N$20>14),1,0) -> 0 | T12: =IF(AND($L$20<16,$N$20>15),1,0) -> 0 | U12: =IF(AND($L$20<17,$N$20>16),1,0) -> 0
F13: =IF(AND($L$21<2,$N$21>1),1,0) -> 0 | G13: =IF(AND($L$21<3,$N$21>2),1,0) -> 0 | H13: =IF(AND($L$21<4,$N$21>3),1,0) -> 0 | I13: =IF(AND($L$21<5,$N$21>4),1,0) -> 0 | J13: =IF(AND($L$21<6,$N$21>5),1,0) -> 0 | K13: =IF(AND($L$21<7,$N$21>6),1,0) -> 0 | L13: =IF(AND($L$21<8,$N$21>7),1,0) -> 0 | M13: =IF(AND($L$21<9,$N$21>8),1,0) -> 0 | N13: =IF(AND($L$21<10,$N$21>9),1,0) -> 0 | O13: =IF(AND($L$21<11,$N$21>10),1,0) -> 0 | P13: =IF(AND($L$21<12,$N$21>11),1,0) -> 0 | Q13: =IF(AND($L$21<13,$N$21>12),1,0) -> 0 | R13: =IF(AND($L$21<14,$N$21>13),1,0) -> 0 | S13: =IF(AND($L$21<15,$N$21>14),1,0) -> 0 | T13: =IF(AND($L$21<16,$N$21>15),1,0) -> 0 | U13: =IF(AND($L$21<17,$N$21>16),1,0) -> 0
F16: フロアー | G16: 1X | H16: 1Y | I16: 2X | J16: 2Y | L16: X最小値 | M16: Y最小値 | N16: X最大値 | O16: Y最大値
E17: ① | F17: =IFERROR((工事計画書!R58),"") -> 1 | G17: =IFERROR((工事計画書!S58),"") -> 6 | H17: =IFERROR((工事計画書!T58),"") -> 4 | I17: =IFERROR((工事計画書!U58),"") -> 11 | J17: =IFERROR((工事計画書!V58),"") -> 6 | K17: → | L17: =IF(G17<I17,G17,I17) -> 6 | M17: =IF(H17<J17,H17,J17) -> 4 | N17: =IF(G17<I17,I17,G17) -> 11 | O17: =IF(H17<J17,J17,H17) -> 6
E18: ② | F18: =IFERROR((工事計画書!R59),"") -> 0 | G18: =IFERROR((工事計画書!S59),"") -> 0 | H18: =IFERROR((工事計画書!T59),"") -> 0 | I18: =IFERROR((工事計画書!U59),"") -> 0 | J18: =IFERROR((工事計画書!V59),"") -> 0 | K18: → | L18: =IF(G18<I18,G18,I18) -> 0 | M18: =IF(H18<J18,H18,J18) -> 0 | N18: =IF(G18<I18,I18,G18) -> 0 | O18: =IF(H18<J18,J18,H18) -> 0
E19: ③ | F19: =IFERROR((工事計画書!R60),"") -> 0 | G19: =IFERROR((工事計画書!S60),"") -> 0 | H19: =IFERROR((工事計画書!T60),"") -> 0 | I19: =IFERROR((工事計画書!U60),"") -> 0 | J19: =IFERROR((工事計画書!V60),"") -> 0 | K19: → | L19: =IF(G19<I19,G19,I19) -> 0 | M19: =IF(H19<J19,H19,J19) -> 0 | N19: =IF(G19<I19,I19,G19) -> 0 | O19: =IF(H19<J19,J19,H19) -> 0
E20: ④ | F20: =IFERROR((工事計画書!R61),"") -> 0 | G20: =IFERROR((工事計画書!S61),"") -> 0 | H20: =IFERROR((工事計画書!T61),"") -> 0 | I20: =IFERROR((工事計画書!U61),"") -> 0 | J20: =IFERROR((工事計画書!V61),"") -> 0 | K20: → | L20: =IF(G20<I20,G20,I20) -> 0 | M20: =IF(H20<J20,H20,J20) -> 0 | N20: =IF(G20<I20,I20,G20) -> 0 | O20: =IF(H20<J20,J20,H20) -> 0
E21: ⑤ | F21: =IFERROR((工事計画書!R62),"") -> 0 | G21: =IFERROR((工事計画書!S62),"") -> 0 | H21: =IFERROR((工事計画書!T62),"") -> 0 | I21: =IFERROR((工事計画書!U62),"") -> 0 | J21: =IFERROR((工事計画書!V62),"") -> 0 | K21: → | L21: =IF(G21<I21,G21,I21) -> 0 | M21: =IF(H21<J21,H21,J21) -> 0 | N21: =IF(G21<I21,I21,G21) -> 0 | O21: =IF(H21<J21,J21,H21) -> 0

Sheet 2F
A2: =IF(AND($M$21<8,$O$21>7),1,0) -> 0 | B2: =IF(AND($M$20<8,$O$20>7),1,0) -> 0 | C2: =IF(AND($M$19<8,$O$19>7),1,0) -> 0 | D2: =IF(AND($M$18<8,$O$18>7),1,0) -> 0 | E2: =IF(AND($M$17<8,$O$17>7),1,0) -> 0
A3: =IF(AND($M$21<7,$O$21>6),1,0) -> 0 | B3: =IF(AND($M$20<7,$O$20>6),1,0) -> 0 | C3: =IF(AND($M$19<7,$O$19>6),1,0) -> 0 | D3: =IF(AND($M$18<7,$O$18>6),1,0) -> 0 | E3: =IF(AND($M$17<7,$O$17>6),1,0) -> 0
A4: =IF(AND($M$21<6,$O$21>5),1,0) -> 0 | B4: =IF(AND($M$20<6,$O$20>5),1,0) -> 0 | C4: =IF(AND($M$19<6,$O$19>5),1,0) -> 0 | D4: =IF(AND($M$18<6,$O$18>5),1,0) -> 0 | E4: =IF(AND($M$17<6,$O$17>5),1,0) -> 0
A5: =IF(AND($M$21<5,$O$21>4),1,0) -> 0 | B5: =IF(AND($M$20<5,$O$20>4),1,0) -> 0 | C5: =IF(AND($M$19<5,$O$19>4),1,0) -> 0 | D5: =IF(AND($M$18<5,$O$18>4),1,0) -> 0 | E5: =IF(AND($M$17<5,$O$17>4),1,0) -> 0
A6: =IF(AND($M$21<4,$O$21>3),1,0) -> 0 | B6: =IF(AND($M$20<4,$O$20>3),1,0) -> 0 | C6: =IF(AND($M$19<4,$O$19>3),1,0) -> 0 | D6: =IF(AND($M$18<4,$O$18>3),1,0) -> 0 | E6: =IF(AND($M$17<4,$O$17>3),1,0) -> 0
A7: =IF(AND($M$21<3,$O$21>2),1,0) -> 0 | B7: =IF(AND($M$20<3,$O$20>2),1,0) -> 0 | C7: =IF(AND($M$19<3,$O$19>2),1,0) -> 0 | D7: =IF(AND($M$18<3,$O$18>2),1,0) -> 0 | E7: =IF(AND($M$17<3,$O$17>2),1,0) -> 0
A8: =IF(AND($M$21<2,$O$21>1),1,0) -> 0 | B8: =IF(AND($M$20<2,$O$20>1),1,0) -> 0 | C8: =IF(AND($M$19<2,$O$19>1),1,0) -> 0 | D8: =IF(AND($M$18<2,$O$18>1),1,0) -> 0 | E8: =IF(AND($M$17<2,$O$17>1),1,0) -> 0
F9: =IF(AND($L$17<2,$N$17>1),1,0) -> 0 | G9: =IF(AND($L$17<3,$N$17>2),1,0) -> 0 | H9: =IF(AND($L$17<4,$N$17>3),1,0) -> 0 | I9: =IF(AND($L$17<5,$N$17>4),1,0) -> 0 | J9: =IF(AND($L$17<6,$N$17>5),1,0) -> 0 | K9: =IF(AND($L$17<7,$N$17>6),1,0) -> 0 | L9: =IF(AND($L$17<8,$N$17>7),1,0) -> 0 | M9: =IF(AND($L$17<9,$N$17>8),1,0) -> 0 | N9: =IF(AND($L$17<10,$N$17>9),1,0) -> 0 | O9: =IF(AND($L$17<11,$N$17>10),1,0) -> 0 | P9: =IF(AND($L$17<12,$N$17>11),1,0) -> 0 | Q9: =IF(AND($L$17<13,$N$17>12),1,0) -> 0 | R9: =IF(AND($L$17<14,$N$17>13),1,0) -> 0 | S9: =IF(AND($L$17<15,$N$17>14),1,0) -> 0 | T9: =IF(AND($L$17<16,$N$17>15),1,0) -> 0 | U9: =IF(AND($L$17<17,$N$17>16),1,0) -> 0
F10: =IF(AND($L$18<2,$N$18>1),1,0) -> 0 | G10: =IF(AND($L$18<3,$N$18>2),1,0) -> 0 | H10: =IF(AND($L$18<4,$N$18>3),1,0) -> 0 | I10: =IF(AND($L$18<5,$N$18>4),1,0) -> 0 | J10: =IF(AND($L$18<6,$N$18>5),1,0) -> 0 | K10: =IF(AND($L$18<7,$N$18>6),1,0) -> 0 | L10: =IF(AND($L$18<8,$N$18>7),1,0) -> 0 | M10: =IF(AND($L$18<9,$N$18>8),1,0) -> 0 | N10: =IF(AND($L$18<10,$N$18>9),1,0) -> 0 | O10: =IF(AND($L$18<11,$N$18>10),1,0) -> 0 | P10: =IF(AND($L$18<12,$N$18>11),1,0) -> 0 | Q10: =IF(AND($L$18<13,$N$18>12),1,0) -> 0 | R10: =IF(AND($L$18<14,$N$18>13),1,0) -> 0 | S10: =IF(AND($L$18<15,$N$18>14),1,0) -> 0 | T10: =IF(AND($L$18<16,$N$18>15),1,0) -> 0 | U10: =IF(AND($L$18<17,$N$18>16),1,0) -> 0
F11: =IF(AND($L$19<2,$N$19>1),1,0) -> 0 | G11: =IF(AND($L$19<3,$N$19>2),1,0) -> 0 | H11: =IF(AND($L$19<4,$N$19>3),1,0) -> 0 | I11: =IF(AND($L$19<5,$N$19>4),1,0) -> 0 | J11: =IF(AND($L$19<6,$N$19>5),1,0) -> 0 | K11: =IF(AND($L$19<7,$N$19>6),1,0) -> 0 | L11: =IF(AND($L$19<8,$N$19>7),1,0) -> 0 | M11: =IF(AND($L$19<9,$N$19>8),1,0) -> 0 | N11: =IF(AND($L$19<10,$N$19>9),1,0) -> 0 | O11: =IF(AND($L$19<11,$N$19>10),1,0) -> 0 | P11: =IF(AND($L$19<12,$N$19>11),1,0) -> 0 | Q11: =IF(AND($L$19<13,$N$19>12),1,0) -> 0 | R11: =IF(AND($L$19<14,$N$19>13),1,0) -> 0 | S11: =IF(AND($L$19<15,$N$19>14),1,0) -> 0 | T11: =IF(AND($L$19<16,$N$19>15),1,0) -> 0 | U11: =IF(AND($L$19<17,$N$19>16),1,0) -> 0
F12: =IF(AND($L$20<2,$N$20>1),1,0) -> 0 | G12: =IF(AND($L$20<3,$N$20>2),1,0) -> 0 | H12: =IF(AND($L$20<4,$N$20>3),1,0) -> 0 | I12: =IF(AND($L$20<5,$N$20>4),1,0) -> 0 | J12: =IF(AND($L$20<6,$N$20>5),1,0) -> 0 | K12: =IF(AND($L$20<7,$N$20>6),1,0) -> 0 | L12: =IF(AND($L$20<8,$N$20>7),1,0) -> 0 | M12: =IF(AND($L$20<9,$N$20>8),1,0) -> 0 | N12: =IF(AND($L$20<10,$N$20>9),1,0) -> 0 | O12: =IF(AND($L$20<11,$N$20>10),1,0) -> 0 | P12: =IF(AND($L$20<12,$N$20>11),1,0) -> 0 | Q12: =IF(AND($L$20<13,$N$20>12),1,0) -> 0 | R12: =IF(AND($L$20<14,$N$20>13),1,0) -> 0 | S12: =IF(AND($L$20<15,$N$20>14),1,0) -> 0 | T12: =IF(AND($L$20<16,$N$20>15),1,0) -> 0 | U12: =IF(AND($L$20<17,$N$20>16),1,0) -> 0
F13: =IF(AND($L$21<2,$N$21>1),1,0) -> 0 | G13: =IF(AND($L$21<3,$N$21>2),1,0) -> 0 | H13: =IF(AND($L$21<4,$N$21>3),1,0) -> 0 | I13: =IF(AND($L$21<5,$N$21>4),1,0) -> 0 | J13: =IF(AND($L$21<6,$N$21>5),1,0) -> 0 | K13: =IF(AND($L$21<7,$N$21>6),1,0) -> 0 | L13: =IF(AND($L$21<8,$N$21>7),1,0) -> 0 | M13: =IF(AND($L$21<9,$N$21>8),1,0) -> 0 | N13: =IF(AND($L$21<10,$N$21>9),1,0) -> 0 | O13: =IF(AND($L$21<11,$N$21>10),1,0) -> 0 | P13: =IF(AND($L$21<12,$N$21>11),1,0) -> 0 | Q13: =IF(AND($L$21<13,$N$21>12),1,0) -> 0 | R13: =IF(AND($L$21<14,$N$21>13),1,0) -> 0 | S13: =IF(AND($L$21<15,$N$21>14),1,0) -> 0 | T13: =IF(AND($L$21<16,$N$21>15),1,0) -> 0 | U13: =IF(AND($L$21<17,$N$21>16),1,0) -> 0
F16: フロアー | G16: 1X | H16: 1Y | I16: 2X | J16: 2Y | L16: X最小値 | M16: Y最小値 | N16: X最大値 | O16: Y最大値
E17: ① | F17: =IFERROR((工事計画書!Y58),"") | G17: =IFERROR((工事計画書!Z58),"") -> 0 | H17: =IFERROR((工事計画書!AA58),"") -> 0 | I17: =IFERROR((工事計画書!AB58),"") -> 0 | J17: =IFERROR((工事計画書!AC58),"") -> 0 | K17: → | L17: =IF(G17<I17,G17,I17) -> 0 | M17: =IF(H17<J17,H17,J17) -> 0 | N17: =IF(G17<I17,I17,G17) -> 0 | O17: =IF(H17<J17,J17,H17) -> 0
E18: ② | F18: =IFERROR((工事計画書!Y59),"") -> 0 | G18: =IFERROR((工事計画書!Z59),"") -> 0 | H18: =IFERROR((工事計画書!AA59),"") -> 0 | I18: =IFERROR((工事計画書!AB59),"") -> 0 | J18: =IFERROR((工事計画書!AC59),"") -> 0 | K18: → | L18: =IF(G18<I18,G18,I18) -> 0 | M18: =IF(H18<J18,H18,J18) -> 0 | N18: =IF(G18<I18,I18,G18) -> 0 | O18: =IF(H18<J18,J18,H18) -> 0
E19: ③ | F19: =IFERROR((工事計画書!Y60),"") -> 0 | G19: =IFERROR((工事計画書!Z60),"") -> 0 | H19: =IFERROR((工事計画書!AA60),"") -> 0 | I19: =IFERROR((工事計画書!AB60),"") -> 0 | J19: =IFERROR((工事計画書!AC60),"") -> 0 | K19: → | L19: =IF(G19<I19,G19,I19) -> 0 | M19: =IF(H19<J19,H19,J19) -> 0 | N19: =IF(G19<I19,I19,G19) -> 0 | O19: =IF(H19<J19,J19,H19) -> 0
E20: ④ | F20: =IFERROR((工事計画書!Y61),"") -> 0 | G20: =IFERROR((工事計画書!Z61),"") -> 0 | H20: =IFERROR((工事計画書!AA61),"") -> 0 | I20: =IFERROR((工事計画書!AB61),"") -> 0 | J20: =IFERROR((工事計画書!AC61),"") -> 0 | K20: → | L20: =IF(G20<I20,G20,I20) -> 0 | M20: =IF(H20<J20,H20,J20) -> 0 | N20: =IF(G20<I20,I20,G20) -> 0 | O20: =IF(H20<J20,J20,H20) -> 0
E21: ⑤ | F21: =IFERROR((工事計画書!Y62),"") -> 0 | G21: =IFERROR((工事計画書!Z62),"") -> 0 | H21: =IFERROR((工事計画書!AA62),"") -> 0 | I21: =IFERROR((工事計画書!AB62),"") -> 0 | J21: =IFERROR((工事計画書!AC62),"") -> 0 | K21: → | L21: =IF(G21<I21,G21,I21) -> 0 | M21: =IF(H21<J21,H21,J21) -> 0 | N21: =IF(G21<I21,I21,G21) -> 0 | O21: =IF(H21<J21,J21,H21) -> 0

Sheet 3F
A2: =IF(AND($M$21<8,$O$21>7),1,0) -> 0 | B2: =IF(AND($M$20<8,$O$20>7),1,0) -> 0 | C2: =IF(AND($M$19<8,$O$19>7),1,0) -> 0 | D2: =IF(AND($M$18<8,$O$18>7),1,0) -> 0 | E2: =IF(AND($M$17<8,$O$17>7),1,0) -> 0
A3: =IF(AND($M$21<7,$O$21>6),1,0) -> 0 | B3: =IF(AND($M$20<7,$O$20>6),1,0) -> 0 | C3: =IF(AND($M$19<7,$O$19>6),1,0) -> 0 | D3: =IF(AND($M$18<7,$O$18>6),1,0) -> 0 | E3: =IF(AND($M$17<7,$O$17>6),1,0) -> 0
A4: =IF(AND($M$21<6,$O$21>5),1,0) -> 0 | B4: =IF(AND($M$20<6,$O$20>5),1,0) -> 0 | C4: =IF(AND($M$19<6,$O$19>5),1,0) -> 0 | D4: =IF(AND($M$18<6,$O$18>5),1,0) -> 0 | E4: =IF(AND($M$17<6,$O$17>5),1,0) -> 0
A5: =IF(AND($M$21<5,$O$21>4),1,0) -> 0 | B5: =IF(AND($M$20<5,$O$20>4),1,0) -> 0 | C5: =IF(AND($M$19<5,$O$19>4),1,0) -> 0 | D5: =IF(AND($M$18<5,$O$18>4),1,0) -> 0 | E5: =IF(AND($M$17<5,$O$17>4),1,0) -> 0
A6: =IF(AND($M$21<4,$O$21>3),1,0) -> 0 | B6: =IF(AND($M$20<4,$O$20>3),1,0) -> 0 | C6: =IF(AND($M$19<4,$O$19>3),1,0) -> 0 | D6: =IF(AND($M$18<4,$O$18>3),1,0) -> 0 | E6: =IF(AND($M$17<4,$O$17>3),1,0) -> 0
A7: =IF(AND($M$21<3,$O$21>2),1,0) -> 0 | B7: =IF(AND($M$20<3,$O$20>2),1,0) -> 0 | C7: =IF(AND($M$19<3,$O$19>2),1,0) -> 0 | D7: =IF(AND($M$18<3,$O$18>2),1,0) -> 0 | E7: =IF(AND($M$17<3,$O$17>2),1,0) -> 0
A8: =IF(AND($M$21<2,$O$21>1),1,0) -> 0 | B8: =IF(AND($M$20<2,$O$20>1),1,0) -> 0 | C8: =IF(AND($M$19<2,$O$19>1),1,0) -> 0 | D8: =IF(AND($M$18<2,$O$18>1),1,0) -> 0 | E8: =IF(AND($M$17<2,$O$17>1),1,0) -> 0
F9: =IF(AND($L$17<2,$N$17>1),1,0) -> 0 | G9: =IF(AND($L$17<3,$N$17>2),1,0) -> 0 | H9: =IF(AND($L$17<4,$N$17>3),1,0) -> 0 | I9: =IF(AND($L$17<5,$N$17>4),1,0) -> 0 | J9: =IF(AND($L$17<6,$N$17>5),1,0) -> 0 | K9: =IF(AND($L$17<7,$N$17>6),1,0) -> 0 | L9: =IF(AND($L$17<8,$N$17>7),1,0) -> 0 | M9: =IF(AND($L$17<9,$N$17>8),1,0) -> 0 | N9: =IF(AND($L$17<10,$N$17>9),1,0) -> 0 | O9: =IF(AND($L$17<11,$N$17>10),1,0) -> 0 | P9: =IF(AND($L$17<12,$N$17>11),1,0) -> 0 | Q9: =IF(AND($L$17<13,$N$17>12),1,0) -> 0 | R9: =IF(AND($L$17<14,$N$17>13),1,0) -> 0 | S9: =IF(AND($L$17<15,$N$17>14),1,0) -> 0 | T9: =IF(AND($L$17<16,$N$17>15),1,0) -> 0 | U9: =IF(AND($L$17<17,$N$17>16),1,0) -> 0
F10: =IF(AND($L$18<2,$N$18>1),1,0) -> 0 | G10: =IF(AND($L$18<3,$N$18>2),1,0) -> 0 | H10: =IF(AND($L$18<4,$N$18>3),1,0) -> 0 | I10: =IF(AND($L$18<5,$N$18>4),1,0) -> 0 | J10: =IF(AND($L$18<6,$N$18>5),1,0) -> 0 | K10: =IF(AND($L$18<7,$N$18>6),1,0) -> 0 | L10: =IF(AND($L$18<8,$N$18>7),1,0) -> 0 | M10: =IF(AND($L$18<9,$N$18>8),1,0) -> 0 | N10: =IF(AND($L$18<10,$N$18>9),1,0) -> 0 | O10: =IF(AND($L$18<11,$N$18>10),1,0) -> 0 | P10: =IF(AND($L$18<12,$N$18>11),1,0) -> 0 | Q10: =IF(AND($L$18<13,$N$18>12),1,0) -> 0 | R10: =IF(AND($L$18<14,$N$18>13),1,0) -> 0 | S10: =IF(AND($L$18<15,$N$18>14),1,0) -> 0 | T10: =IF(AND($L$18<16,$N$18>15),1,0) -> 0 | U10: =IF(AND($L$18<17,$N$18>16),1,0) -> 0
F11: =IF(AND($L$19<2,$N$19>1),1,0) -> 0 | G11: =IF(AND($L$19<3,$N$19>2),1,0) -> 0 | H11: =IF(AND($L$19<4,$N$19>3),1,0) -> 0 | I11: =IF(AND($L$19<5,$N$19>4),1,0) -> 0 | J11: =IF(AND($L$19<6,$N$19>5),1,0) -> 0 | K11: =IF(AND($L$19<7,$N$19>6),1,0) -> 0 | L11: =IF(AND($L$19<8,$N$19>7),1,0) -> 0 | M11: =IF(AND($L$19<9,$N$19>8),1,0) -> 0 | N11: =IF(AND($L$19<10,$N$19>9),1,0) -> 0 | O11: =IF(AND($L$19<11,$N$19>10),1,0) -> 0 | P11: =IF(AND($L$19<12,$N$19>11),1,0) -> 0 | Q11: =IF(AND($L$19<13,$N$19>12),1,0) -> 0 | R11: =IF(AND($L$19<14,$N$19>13),1,0) -> 0 | S11: =IF(AND($L$19<15,$N$19>14),1,0) -> 0 | T11: =IF(AND($L$19<16,$N$19>15),1,0) -> 0 | U11: =IF(AND($L$19<17,$N$19>16),1,0) -> 0
F12: =IF(AND($L$20<2,$N$20>1),1,0) -> 0 | G12: =IF(AND($L$20<3,$N$20>2),1,0) -> 0 | H12: =IF(AND($L$20<4,$N$20>3),1,0) -> 0 | I12: =IF(AND($L$20<5,$N$20>4),1,0) -> 0 | J12: =IF(AND($L$20<6,$N$20>5),1,0) -> 0 | K12: =IF(AND($L$20<7,$N$20>6),1,0) -> 0 | L12: =IF(AND($L$20<8,$N$20>7),1,0) -> 0 | M12: =IF(AND($L$20<9,$N$20>8),1,0) -> 0 | N12: =IF(AND($L$20<10,$N$20>9),1,0) -> 0 | O12: =IF(AND($L$20<11,$N$20>10),1,0) -> 0 | P12: =IF(AND($L$20<12,$N$20>11),1,0) -> 0 | Q12: =IF(AND($L$20<13,$N$20>12),1,0) -> 0 | R12: =IF(AND($L$20<14,$N$20>13),1,0) -> 0 | S12: =IF(AND($L$20<15,$N$20>14),1,0) -> 0 | T12: =IF(AND($L$20<16,$N$20>15),1,0) -> 0 | U12: =IF(AND($L$20<17,$N$20>16),1,0) -> 0
F13: =IF(AND($L$21<2,$N$21>1),1,0) -> 0 | G13: =IF(AND($L$21<3,$N$21>2),1,0) -> 0 | H13: =IF(AND($L$21<4,$N$21>3),1,0) -> 0 | I13: =IF(AND($L$21<5,$N$21>4),1,0) -> 0 | J13: =IF(AND($L$21<6,$N$21>5),1,0) -> 0 | K13: =IF(AND($L$21<7,$N$21>6),1,0) -> 0 | L13: =IF(AND($L$21<8,$N$21>7),1,0) -> 0 | M13: =IF(AND($L$21<9,$N$21>8),1,0) -> 0 | N13: =IF(AND($L$21<10,$N$21>9),1,0) -> 0 | O13: =IF(AND($L$21<11,$N$21>10),1,0) -> 0 | P13: =IF(AND($L$21<12,$N$21>11),1,0) -> 0 | Q13: =IF(AND($L$21<13,$N$21>12),1,0) -> 0 | R13: =IF(AND($L$21<14,$N$21>13),1,0) -> 0 | S13: =IF(AND($L$21<15,$N$21>14),1,0) -> 0 | T13: =IF(AND($L$21<16,$N$21>15),1,0) -> 0 | U13: =IF(AND($L$21<17,$N$21>16),1,0) -> 0
F16: フロアー | G16: 1X | H16: 1Y | I16: 2X | J16: 2Y | L16: X最小値 | M16: Y最小値 | N16: X最大値 | O16: Y最大値
E17: ① | F17: =IFERROR((工事計画書!AF58),"") | G17: =IFERROR((工事計画書!AG58),"") -> 0 | H17: =IFERROR((工事計画書!AH58),"") -> 0 | I17: =IFERROR((工事計画書!AI58),"") -> 0 | J17: =IFERROR((工事計画書!AJ58),"") -> 0 | K17: → | L17: =IF(G17<I17,G17,I17) -> 0 | M17: =IF(H17<J17,H17,J17) -> 0 | N17: =IF(G17<I17,I17,G17) -> 0 | O17: =IF(H17<J17,J17,H17) -> 0
E18: ② | F18: =IFERROR((工事計画書!AF59),"") -> 0 | G18: =IFERROR((工事計画書!AG59),"") -> 0 | H18: =IFERROR((工事計画書!AH59),"") -> 0 | I18: =IFERROR((工事計画書!AI59),"") -> 0 | J18: =IFERROR((工事計画書!AJ59),"") -> 0 | K18: → | L18: =IF(G18<I18,G18,I18) -> 0 | M18: =IF(H18<J18,H18,J18) -> 0 | N18: =IF(G18<I18,I18,G18) -> 0 | O18: =IF(H18<J18,J18,H18) -> 0
E19: ③ | F19: =IFERROR((工事計画書!AF60),"") -> 0 | G19: =IFERROR((工事計画書!AG60),"") -> 0 | H19: =IFERROR((工事計画書!AH60),"") -> 0 | I19: =IFERROR((工事計画書!AI60),"") -> 0 | J19: =IFERROR((工事計画書!AJ60),"") -> 0 | K19: → | L19: =IF(G19<I19,G19,I19) -> 0 | M19: =IF(H19<J19,H19,J19) -> 0 | N19: =IF(G19<I19,I19,G19) -> 0 | O19: =IF(H19<J19,J19,H19) -> 0
E20: ④ | F20: =IFERROR((工事計画書!AF61),"") -> 0 | G20: =IFERROR((工事計画書!AG61),"") -> 0 | H20: =IFERROR((工事計画書!AH61),"") -> 0 | I20: =IFERROR((工事計画書!AI61),"") -> 0 | J20: =IFERROR((工事計画書!AJ61),"") -> 0 | K20: → | L20: =IF(G20<I20,G20,I20) -> 0 | M20: =IF(H20<J20,H20,J20) -> 0 | N20: =IF(G20<I20,I20,G20) -> 0 | O20: =IF(H20<J20,J20,H20) -> 0
E21: ⑤ | F21: =IFERROR((工事計画書!AF62),"") -> 0 | G21: =IFERROR((工事計画書!AG62),"") -> 0 | H21: =IFERROR((工事計画書!AH62),"") -> 0 | I21: =IFERROR((工事計画書!AI62),"") -> 0 | J21: =IFERROR((工事計画書!AJ62),"") -> 0 | K21: → | L21: =IF(G21<I21,G21,I21) -> 0 | M21: =IF(H21<J21,H21,J21) -> 0 | N21: =IF(G21<I21,I21,G21) -> 0 | O21: =IF(H21<J21,J21,H21) -> 0

Sheet 4F
A2: =IF(AND($M$21<8,$O$21>7),1,0) -> 0 | B2: =IF(AND($M$20<8,$O$20>7),1,0) -> 0 | C2: =IF(AND($M$19<8,$O$19>7),1,0) -> 0 | D2: =IF(AND($M$18<8,$O$18>7),1,0) -> 0 | E2: =IF(AND($M$17<8,$O$17>7),1,0) -> 0
A3: =IF(AND($M$21<7,$O$21>6),1,0) -> 0 | B3: =IF(AND($M$20<7,$O$20>6),1,0) -> 0 | C3: =IF(AND($M$19<7,$O$19>6),1,0) -> 0 | D3: =IF(AND($M$18<7,$O$18>6),1,0) -> 0 | E3: =IF(AND($M$17<7,$O$17>6),1,0) -> 0
A4: =IF(AND($M$21<6,$O$21>5),1,0) -> 0 | B4: =IF(AND($M$20<6,$O$20>5),1,0) -> 0 | C4: =IF(AND($M$19<6,$O$19>5),1,0) -> 0 | D4: =IF(AND($M$18<6,$O$18>5),1,0) -> 0 | E4: =IF(AND($M$17<6,$O$17>5),1,0) -> 0
A5: =IF(AND($M$21<5,$O$21>4),1,0) -> 0 | B5: =IF(AND($M$20<5,$O$20>4),1,0) -> 0 | C5: =IF(AND($M$19<5,$O$19>4),1,0) -> 0 | D5: =IF(AND($M$18<5,$O$18>4),1,0) -> 0 | E5: =IF(AND($M$17<5,$O$17>4),1,0) -> 0
A6: =IF(AND($M$21<4,$O$21>3),1,0) -> 0 | B6: =IF(AND($M$20<4,$O$20>3),1,0) -> 0 | C6: =IF(AND($M$19<4,$O$19>3),1,0) -> 0 | D6: =IF(AND($M$18<4,$O$18>3),1,0) -> 0 | E6: =IF(AND($M$17<4,$O$17>3),1,0) -> 0
A7: =IF(AND($M$21<3,$O$21>2),1,0) -> 0 | B7: =IF(AND($M$20<3,$O$20>2),1,0) -> 0 | C7: =IF(AND($M$19<3,$O$19>2),1,0) -> 0 | D7: =IF(AND($M$18<3,$O$18>2),1,0) -> 0 | E7: =IF(AND($M$17<3,$O$17>2),1,0) -> 0
A8: =IF(AND($M$21<2,$O$21>1),1,0) -> 0 | B8: =IF(AND($M$20<2,$O$20>1),1,0) -> 0 | C8: =IF(AND($M$19<2,$O$19>1),1,0) -> 0 | D8: =IF(AND($M$18<2,$O$18>1),1,0) -> 0 | E8: =IF(AND($M$17<2,$O$17>1),1,0) -> 0
F9: =IF(AND($L$17<2,$N$17>1),1,0) -> 0 | G9: =IF(AND($L$17<3,$N$17>2),1,0) -> 0 | H9: =IF(AND($L$17<4,$N$17>3),1,0) -> 0 | I9: =IF(AND($L$17<5,$N$17>4),1,0) -> 0 | J9: =IF(AND($L$17<6,$N$17>5),1,0) -> 0 | K9: =IF(AND($L$17<7,$N$17>6),1,0) -> 0 | L9: =IF(AND($L$17<8,$N$17>7),1,0) -> 0 | M9: =IF(AND($L$17<9,$N$17>8),1,0) -> 0 | N9: =IF(AND($L$17<10,$N$17>9),1,0) -> 0 | O9: =IF(AND($L$17<11,$N$17>10),1,0) -> 0 | P9: =IF(AND($L$17<12,$N$17>11),1,0) -> 0 | Q9: =IF(AND($L$17<13,$N$17>12),1,0) -> 0 | R9: =IF(AND($L$17<14,$N$17>13),1,0) -> 0 | S9: =IF(AND($L$17<15,$N$17>14),1,0) -> 0 | T9: =IF(AND($L$17<16,$N$17>15),1,0) -> 0 | U9: =IF(AND($L$17<17,$N$17>16),1,0) -> 0
F10: =IF(AND($L$18<2,$N$18>1),1,0) -> 0 | G10: =IF(AND($L$18<3,$N$18>2),1,0) -> 0 | H10: =IF(AND($L$18<4,$N$18>3),1,0) -> 0 | I10: =IF(AND($L$18<5,$N$18>4),1,0) -> 0 | J10: =IF(AND($L$18<6,$N$18>5),1,0) -> 0 | K10: =IF(AND($L$18<7,$N$18>6),1,0) -> 0 | L10: =IF(AND($L$18<8,$N$18>7),1,0) -> 0 | M10: =IF(AND($L$18<9,$N$18>8),1,0) -> 0 | N10: =IF(AND($L$18<10,$N$18>9),1,0) -> 0 | O10: =IF(AND($L$18<11,$N$18>10),1,0) -> 0 | P10: =IF(AND($L$18<12,$N$18>11),1,0) -> 0 | Q10: =IF(AND($L$18<13,$N$18>12),1,0) -> 0 | R10: =IF(AND($L$18<14,$N$18>13),1,0) -> 0 | S10: =IF(AND($L$18<15,$N$18>14),1,0) -> 0 | T10: =IF(AND($L$18<16,$N$18>15),1,0) -> 0 | U10: =IF(AND($L$18<17,$N$18>16),1,0) -> 0
F11: =IF(AND($L$19<2,$N$19>1),1,0) -> 0 | G11: =IF(AND($L$19<3,$N$19>2),1,0) -> 0 | H11: =IF(AND($L$19<4,$N$19>3),1,0) -> 0 | I11: =IF(AND($L$19<5,$N$19>4),1,0) -> 0 | J11: =IF(AND($L$19<6,$N$19>5),1,0) -> 0 | K11: =IF(AND($L$19<7,$N$19>6),1,0) -> 0 | L11: =IF(AND($L$19<8,$N$19>7),1,0) -> 0 | M11: =IF(AND($L$19<9,$N$19>8),1,0) -> 0 | N11: =IF(AND($L$19<10,$N$19>9),1,0) -> 0 | O11: =IF(AND($L$19<11,$N$19>10),1,0) -> 0 | P11: =IF(AND($L$19<12,$N$19>11),1,0) -> 0 | Q11: =IF(AND($L$19<13,$N$19>12),1,0) -> 0 | R11: =IF(AND($L$19<14,$N$19>13),1,0) -> 0 | S11: =IF(AND($L$19<15,$N$19>14),1,0) -> 0 | T11: =IF(AND($L$19<16,$N$19>15),1,0) -> 0 | U11: =IF(AND($L$19<17,$N$19>16),1,0) -> 0
F12: =IF(AND($L$20<2,$N$20>1),1,0) -> 0 | G12: =IF(AND($L$20<3,$N$20>2),1,0) -> 0 | H12: =IF(AND($L$20<4,$N$20>3),1,0) -> 0 | I12: =IF(AND($L$20<5,$N$20>4),1,0) -> 0 | J12: =IF(AND($L$20<6,$N$20>5),1,0) -> 0 | K12: =IF(AND($L$20<7,$N$20>6),1,0) -> 0 | L12: =IF(AND($L$20<8,$N$20>7),1,0) -> 0 | M12: =IF(AND($L$20<9,$N$20>8),1,0) -> 0 | N12: =IF(AND($L$20<10,$N$20>9),1,0) -> 0 | O12: =IF(AND($L$20<11,$N$20>10),1,0) -> 0 | P12: =IF(AND($L$20<12,$N$20>11),1,0) -> 0 | Q12: =IF(AND($L$20<13,$N$20>12),1,0) -> 0 | R12: =IF(AND($L$20<14,$N$20>13),1,0) -> 0 | S12: =IF(AND($L$20<15,$N$20>14),1,0) -> 0 | T12: =IF(AND($L$20<16,$N$20>15),1,0) -> 0 | U12: =IF(AND($L$20<17,$N$20>16),1,0) -> 0
F13: =IF(AND($L$21<2,$N$21>1),1,0) -> 0 | G13: =IF(AND($L$21<3,$N$21>2),1,0) -> 0 | H13: =IF(AND($L$21<4,$N$21>3),1,0) -> 0 | I13: =IF(AND($L$21<5,$N$21>4),1,0) -> 0 | J13: =IF(AND($L$21<6,$N$21>5),1,0) -> 0 | K13: =IF(AND($L$21<7,$N$21>6),1,0) -> 0 | L13: =IF(AND($L$21<8,$N$21>7),1,0) -> 0 | M13: =IF(AND($L$21<9,$N$21>8),1,0) -> 0 | N13: =IF(AND($L$21<10,$N$21>9),1,0) -> 0 | O13: =IF(AND($L$21<11,$N$21>10),1,0) -> 0 | P13: =IF(AND($L$21<12,$N$21>11),1,0) -> 0 | Q13: =IF(AND($L$21<13,$N$21>12),1,0) -> 0 | R13: =IF(AND($L$21<14,$N$21>13),1,0) -> 0 | S13: =IF(AND($L$21<15,$N$21>14),1,0) -> 0 | T13: =IF(AND($L$21<16,$N$21>15),1,0) -> 0 | U13: =IF(AND($L$21<17,$N$21>16),1,0) -> 0
F16: フロアー | G16: 1X | H16: 1Y | I16: 2X | J16: 2Y | L16: X最小値 | M16: Y最小値 | N16: X最大値 | O16: Y最大値
E17: ① | F17: =IFERROR((工事計画書!AM58),"") | G17: =IFERROR((工事計画書!AN58),"") -> 0 | H17: =IFERROR((工事計画書!AO58),"") -> 0 | I17: =IFERROR((工事計画書!AP58),"") -> 0 | J17: =IFERROR((工事計画書!AQ58),"") -> 0 | K17: → | L17: =IF(G17<I17,G17,I17) -> 0 | M17: =IF(H17<J17,H17,J17) -> 0 | N17: =IF(G17<I17,I17,G17) -> 0 | O17: =IF(H17<J17,J17,H17) -> 0
E18: ② | F18: =IFERROR((工事計画書!AM59),"") -> 0 | G18: =IFERROR((工事計画書!AN59),"") -> 0 | H18: =IFERROR((工事計画書!AO59),"") -> 0 | I18: =IFERROR((工事計画書!AP59),"") -> 0 | J18: =IFERROR((工事計画書!AQ59),"") -> 0 | K18: → | L18: =IF(G18<I18,G18,I18) -> 0 | M18: =IF(H18<J18,H18,J18) -> 0 | N18: =IF(G18<I18,I18,G18) -> 0 | O18: =IF(H18<J18,J18,H18) -> 0
E19: ③ | F19: =IFERROR((工事計画書!AM60),"") -> 0 | G19: =IFERROR((工事計画書!AN60),"") -> 0 | H19: =IFERROR((工事計画書!AO60),"") -> 0 | I19: =IFERROR((工事計画書!AP60),"") -> 0 | J19: =IFERROR((工事計画書!AQ60),"") -> 0 | K19: → | L19: =IF(G19<I19,G19,I19) -> 0 | M19: =IF(H19<J19,H19,J19) -> 0 | N19: =IF(G19<I19,I19,G19) -> 0 | O19: =IF(H19<J19,J19,H19) -> 0
E20: ④ | F20: =IFERROR((工事計画書!AM61),"") -> 0 | G20: =IFERROR((工事計画書!AN61),"") -> 0 | H20: =IFERROR((工事計画書!AO61),"") -> 0 | I20: =IFERROR((工事計画書!AP61),"") -> 0 | J20: =IFERROR((工事計画書!AQ61),"") -> 0 | K20: → | L20: =IF(G20<I20,G20,I20) -> 0 | M20: =IF(H20<J20,H20,J20) -> 0 | N20: =IF(G20<I20,I20,G20) -> 0 | O20: =IF(H20<J20,J20,H20) -> 0
E21: ⑤ | F21: =IFERROR((工事計画書!AM62),"") -> 0 | G21: =IFERROR((工事計画書!AN62),"") -> 0 | H21: =IFERROR((工事計画書!AO62),"") -> 0 | I21: =IFERROR((工事計画書!AP62),"") -> 0 | J21: =IFERROR((工事計画書!AQ62),"") -> 0 | K21: → | L21: =IF(G21<I21,G21,I21) -> 0 | M21: =IF(H21<J21,H21,J21) -> 0 | N21: =IF(G21<I21,I21,G21) -> 0 | O21: =IF(H21<J21,J21,H21) -> 0

Sheet 屋外エリア
AH18: 1 | AI18: =工事計画書!H57 -> 13 | AL18: ー西神研究棟
AH19: 2 | AI19: =工事計画書!H58 -> 0 | AK19: ア | AL19: ー信頼性試験棟
AH20: 3 | AI20: =工事計画書!H59 -> 0 | AK20: イ | AL20: ー危険物置場
AH21: 4 | AI21: =工事計画書!H60 -> 0 | AK21: ウ | AL21: ー消火ポンプ室
AH22: 5 | AI22: =工事計画書!H61 -> 0 | AK22: エ | AL22: ーメーター小屋
AH23: 6 | AI23: =工事計画書!H62 -> 0 | AK23: オ | AL23: ー西神守衛室
AH24: 7 | AI24: =工事計画書!H63 -> 0 | AK24: カ | AL24: ー排水施設
AH25: 8 | AI25: =工事計画書!H64 -> 0 | AK25: キ | AL25: ー受水槽
AH26: 9 | AI26: =工事計画書!H65 -> 0 | AK26: ク | AL26: ーL廃タンク
AH27: 10 | AI27: =工事計画書!H66 -> 0 | AK27: ケ | AL27: ー液体窒素タンク
AK28: コ | AL28: ー分類廃棄物置場
AK29: サ | AL29: ー倉庫
AK30: シ | AL30: ー従業員駐車場
AK31: ス | AL31: ー来客者駐車場
AK32: セ | AL32: ー西側道路
AK33: ソ | AL33: ー北側道路
AK34: タ | AL34: ー東側道路
AK35: チ | AL35: ー南側道路
AK36: ツ | AL36: ー正面ロータリー
AK37: テ | AL37: ーその他（緑地）

Sheet 工事安全確認シート 
A1: 工事安全確認シート（安全・危険作業チェック）
H2: ［工事前：修正年月日 ／ ／ ］
A3: 工事名 | B3: =[72]工事計画書!E7 -> 給水配管パッキン交換工事 | E3: 工事内容（新設 ・改造 ・移設 ・保全/修理 ・緊急）
A4: 事業所 | B4: 姫路 | E4: 建屋・エリア： | F4: F棟負極混錬エリア | I4: 工事前
A5: 工事期間 | B5: =工事計画書!E13 -> 45414 | E5: 受注会社： | F5: ABC商事 （株） | G5: 工事安全責任者 | H5: 中田 次郎
E6: PPES部署： | F6: 姫路工場〇△部 | G6: 発注・計画担当 | H6: 飾磨 一郎
A8: 構内作業 安全基準
A9: １．全般 | B9: 1 | C9: 安全責任者の役割 | E9: 現地確認、 工事前RA（本シート）、 協力会社への安全指導 （会社名： ）
B10: 2 | C10: 服装 | E10: ヘルメット、保護メガネ、安全靴、長袖・長ズボン 現場ドレスコード（クリーン服、 静電靴、 上履き その他 ）
B11: 3 | C11: 保護具 | E11: ヘルメット種類（墜落 感電 その他 ） 保護具（マスク 保護メガネ 手袋 耳栓 その他 ）
B12: 4 | C12: 工事管理板 | E12: 所持
B13: 5 | C13: 作業の４S | E13: 資材・機材の置き場 置き方・積み方 有害物・危険物 油漏れ
B14: 6 | C14: 構内通行 | E14: 制限速度（屋外：20km/h未満，屋内：10km/h未満） 搬入出経路
A15: ２．安全装置解除作業 | D15: 有 ・ 無 | E15: 設備の動力・エネルギー供給を遮断せずに行う 安全装置解除作業において 事前危険予知(KY）記録表を作成 （別紙） | AZ15: 有 | BA15: 無
A16: ３．高所作業 | D16: 有 ・ 無 | E16: 床面基準・ 2ｍ～5ｍ未満 ・ 5ｍ以上 ・ その他( )
C17: 高所作業方法・内容 | D17: 有 ・ 無 | E17: 脚立 うま・脚立足場 作業台 はしご ローリングタワー 足場・作業床 つり足場・安全ネット張り 屋根上 開口部・ピット付近 高所作業車 クレーン上
A18: ４．感電 | B18: 1 | C18: 電気作業 | D18: 有 ・ 無 | E18: ～50V 50～600V 600～7000V 7000V～ 有資格者の確認 停電・送電範囲の確認 活線近傍作業の有無
B19: 2 | C19: 電動工具・機器類 | D19: 有 ・ 無 | E19: 電動工具・コードリールの点検・絶縁チェック
B20: 3 | C20: 工事用分電盤の配線 | D20: 有 ・ 無 | E20: 有資格者の確認 施工方法
B21: 4 | C21: アーク溶接 | D21: 有 ・ 無 | E21: 機器の点検 使用方法 保護具 火気使用に該当
B22: 5 | C22: 制御盤 作業 | D22: 有 ・ 無 | E22: 電源ロックアウト方法 停止範囲の確認 作業場の照度 試運転時の安全確保
A23: ５．挟まれ （設備試運転） | B23: 1 | C23: ロックアウト（他人の誤操作防止） | D23: 有 ・ 無 | E23: 停止範囲の確認とロックアウト方法
B24: 2 | C24: 大型設備での作業 | D24: 有 ・ 無 | E24: 停止範囲・死角の確認 ホイッスルの使用
B25: 3 | C25: ロックアウトできない作業 | D25: 有 ・ 無 | E25: 作業手順・方法、緊急時の停止方法・監視人の配置の確認 囲いの設置、注意喚起・立入禁止措置
E26: 安全装置解除作業 事前危険予知(KY）記録表を作成 （別紙）
B27: 4 | C27: ロボット教示 | D27: 有 ・ 無 | E27: 有資格者の確認 安衛則に基づく対応
A28: ６．火災・爆発 | B28: 1 | C28: 火気使用 | D28: 有 ・ 無 | E28: 防火用具、 火気使用中の垂れ幕、 火気監視人・監視時間（ 120分） ※火気使用後２ｈの監視
B29: 2 | C29: ガス溶接・溶断 | D29: 有 ・ 無 | E29: 器具点検、 ボンベ管理
B30: 3 | C30: 防火用具の確認 | D30: 有 ・ 無 | E30: 消火器 〔 ２ 本〕・消火水・砂バケツ 〔 ２ 個〕・ 不燃シート（スパッタシート） 〔 ２ 枚〕
A31: ７．酸欠・中毒 | B31: 1 | C31: 塗装作業（有機溶剤） | D31: 有 ・ 無 | E31: 屋内／屋外 有資格者の確認 有機溶剤の種類 有機則に基づく換気・保護具・容器管理の方法
B32: 2 | C32: 酸欠（設備・炉内、タンク内） | D32: 有 ・ 無 | E32: 設備・タンク内・マンホール内・槽内・その他( ) 有資格者の確認 酸欠則に基づく対応
A33: ８．荷役・重機 | B33: 1,2 | C33: 重量物運搬 | D33: 有 ・ 無 | E33: 重量物 安全3原則の徹底 「つり荷・転倒危険範囲に入らない」「入る場合は落下防止・転倒防止する」「作業に入る前に安全な作業位置・退避位置を確認」 重心位置の確認 持ち上げ・つり上げ方法と落下・転倒防止
B34: 3 | C34: 玉掛け | D34: 有 ・ 無 | E34: 有資格者の確認 玉掛け作業の基本徹底
B35: 4 | C35: 移動式クレーン | D35: 有 ・ 無 | E35: 有資格者の確認 クレーン則に基づく対応 移動時のブーム格納 悪天候時の作業中止
B36: 5 | C36: 建設機械 | D36: 有 ・ 無 | E36: 有資格者の確認 機械名( )
B37: 6 | C37: フォークリフト | D37: 有 ・ 無 | E37: 有資格者の確認 運行経路・制限速度 安衛則に基づく対応
B38: 7 | C38: トラックほか 貨物車両 | D38: 有 ・ 無 | E38: 安衛則に基づく対応 アオリ・ウイングを開いたままの走行禁止 車輪留め
A39: ９．その他 | B39: 1 | C39: 研削作業 | D39: 有 ・ 無 | E39: 有資格者の確認 安衛則に基づく対応 火気注意
B40: 2 | C40: 振動工具 | D40: 有 ・ 無 | E40: 有資格者の確認 安衛則に基づく対応 保護具（マスク・耳栓） 飛散防止対策
B41: 3 | C41: 制冷と空調
...

Sheet リスクアセスメント記入例 (改定4)
A1: リスクアセスメント | L1: ・作業毎のリスク項目を洗い出す。 ・危険源（危険作業）に対してのリスク対策を講じる。
A2: 作業日： | C2: 工期日・工期期間 | L2: 元請会社 | M2: ABC商事（株） | R2: 施工会社 | S2: Tサポート工業 | AV2: 有 | AW2: 無
A3: 工 場： | C3: ●●工場 ●●工程
L4: 元請工事 安全責任者 | M4: 山田 次郎 | R4: 作成者 | S4: 田中 一郎
A5: 工事名： | C5: 給水配管パッキン交換工事（シート1）
A7: No | B7: 作業ごとに詳細のリスク項目 | D7: 危険源 危険 事象 ※１ | E7: リスク低減対策 | M7: リスクの評価 | Q7: 特に注意すべき 残留リスク/事象 | S7: 徹底事項
M9: 危険源・事象の 大きさ | N9: 対策 レベル | O9: 評価点 | P9: ランク
A10: 1 | B10: 別の工事業者が作業に気づかずバルブを開放し、水が高圧で噴出し作業者が墜落する | D10: 1 | E10: 作責者が元栓バルブに『バルブ開くな』の札掛けをする | M10: 10 | N10: 0.6 | O10: =M10*N10 -> 6 | P10: {=_xlfn.IFS(O10>=10,"A",O10>=5,"B",O10>=3,"C",O10<3,"D")} -> B | Q10: 他業者の作業者が札に気づかず操作する可能性 | S10: 関係業者全体で断水作業の周知・工程共有を行う
A11: 2 | B11: 別の工事業者が作業中に気づかず電源を入れ、水が高圧で噴出し作業者が墜落する | D11: 1 | E11: 主電源に全員でロックアウトを実施する | M11: 10 | N11: 0.3 | O11: =M11*N11 -> 3 | P11: {=_xlfn.IFS(O11>=10,"A",O11>=5,"B",O11>=3,"C",O11<3,"D")} -> C | Q11: 残圧により水が噴出し、作業者が墜落する | S11: 残圧抜きを実施し、無圧を確認する
A12: 3 | B12: 機材を搬入する時、濡れている床に足を滑らせ転倒する | D12: 8 | E12: 綿ｳｴｽを1束用意し、水たまりの外側から内側へ拭き取る | M12: 8 | N12: 0.3 | O12: =M12*N12 -> 2.4 | P12: {=_xlfn.IFS(O12>=10,"A",O12>=5,"B",O12>=3,"C",O12<3,"D")} -> D | Q12: 拭き取り後も床面に水分が残存し、滑りやすい状態が残る | S12: 拭き取り後、乾燥状態を目視確認してから搬入作業を実施
A13: 4 | B13: 機材運搬中、別の工事業者の車両が進入してきたことに気づかずに激突する | D13: 6 | E13: カラーコーンで作業エリアを区画する | M13: 50 | N13: 0.6 | O13: =M13*N13 -> 30 | P13: {=_xlfn.IFS(O13>=10,"A",O13>=5,"B",O13>=3,"C",O13<3,"D")} -> A | Q13: カラーコーンが移動していて、機材運搬中に別の工事業者に激突する | S13: 機材運搬中は誘導員を配置する
A14: 5 | B14: 梁に掛けるため、梯子を昇降しチェーンブロックを受け取ろうと身を乗り出した時、落ちる | D14: 1 | E14: 垂れ下がり防止用サポート棒を左右2箇所設置し、下から配管を支える | M14: 10 | N14: 0.3 | O14: =M14*N14 -> 3 | P14: {=_xlfn.IFS(O14>=10,"A",O14>=5,"B",O14>=3,"C",O14<3,"D")} -> C | Q14: サポート棒が倒れて作業員に当たる | S14: 2人以上で声を掛け合って作業する
A15: 6 | B15: 脚立上でﾎﾞﾙﾄを緩めようと力んでしまい、スカをくい転落する | D15: 1 | E15: 立馬をフランジと並行に設置する | M15: 10 | N15: 0.3 | O15: =M15*N15 -> 3 | P15: {=_xlfn.IFS(O15>=10,"A",O15>=5,"B",O15>=3,"C",O15<3,"D")} -> C | Q15: 固着したボルトが急に緩んだ反動で転落する | S15: ねじ部の錆をブラシで落とし、潤滑油を散布する
A16: 7 | B16: スパナでボルトを緩めようとして力を入れた時、スカをくい転落する | D16: 1 | E16: メガネレンチを使用する | M16: 10 | N16: 0.6 | O16: =M16*N16 -> 6 | P16: {=_xlfn.IFS(O16>=10,"A",O16>=5,"B",O16>=3,"C",O16<3,"D")} -> B | Q16: 固着したボルトが急に緩んだ反動で転落する | S16: ねじ部の錆をブラシで落とし、潤滑油を散布する
A17: 8 | B17: シノでフランジをこじ開けた時、濡れて滑りやすくなっており、シノが外れ指を挟む | D17: 3 | E17: フランジ間に挟まれ防止のブロックをかませる | M17: 6 | N17: 0.3 | O17: =M17*N17 -> 1.8 | P17: {=_xlfn.IFS(O17>=10,"A",O17>=5,"B",O17>=3,"C",O17<3,"D")} -> D | Q17: ブロックを挟むだけだと抜けて落ちる | S17: フランジ隙間に確実に固定できる専用品を使用
A18: 9 | B18: シノでパッキンを取り外し時、手が滑り落ちたシノが下にいた作業者に当たる | D18: 8 | E18: 手工具落下防止ストラップを使用する | M18: 6 | N18: 0.3 | O18: =M18*N18 -> 1.8 | P18: {=_xlfn.IFS(O18>=10,"A",O18>=5,"B",O18>=3,"C",O18<3,"D")} -> D | Q18: シノ使用時、フランジ部の水分等により工具が滑り、手指を挟傷する | S18: シノ使用前に水分・油分を除去し、挟まれ防止ブロックは確実に固定する
A19: 10 | B19: スパナでボルトを締めようとして力を入れた時、スカをくい転落する | D19: 1 | E19: メガネレンチを使用する | M19: 6 | N19: 0.6 | O19: =M19*N19 -> 3.6 | P19: {=_xlfn.IFS(O19>=10,"A",O19>=5,"B",O19>=3,"C",O19<3,"D")} -> C | Q19: ボルトの角が取れている場合、メガネレンチでもスカをくう | S19: ボルトの形状を確認し、必要があれば交換する
A20: 11 | B20: 別の工事業者が作業していることに気づかず電源を入れ、モーターに挟まれる | D20: 3 | E20: 作業場周囲に作業者がいないか確認し、ロックアウトを解除してから主電源を投入する | M20: 10 | N20: 0.3 | O20: =M20*N20 -> 3 | P20: {=_xlfn.IFS(O20>=10,"A",O20>=5,"B",O20>=3,"C",O20<3,"D")} -> C | Q20: ロックアウト解除後、設備周囲の死角や他工事業者の存在に気づかず電源を入れ、モーターに挟まれる | S20: 電源投入は2名以上で実施し、最終確認者を明確にする。
A21: 12 | B21: 元栓バルブ開放時一挙にバルブを開けたので、高圧水が漏れ出し周囲の作業者に飛散する | D21: 8 | E21: 作責が『バルブ開くな』の札を外し、ゆっくりバルブを開き通水する | M21: 6 | N21: 0.6 | O21: =M21*N21 -> 3.6 | P21: {=_xlfn.IFS(O21>=10,"A",O21>=5,"B",O21>=3,"C",O21<3,"D")} -> C | Q21: パッキンなじみ不良により水が飛散するおそれがあり、周囲作業者に飛散する | S21: 元栓バルブ開放時は施工箇所から退避する
B22: ※1：該当する番号を記入 危険源、危険事象：高所：1 感電：2 挟まれ：3 火気：4 酸欠：5 重量：6 化学物質：7 その他：8
A23: 【留意点】 | E23: リスク評価表 | F23: 危険源の大きさ：特大(50点)=死亡・重篤災害 大(10点)=休業4日以上 中(8点)=休業3日以内 小(6点)=不休
B24: 1．工事前週水曜日までに工事安全責任者が作成する | F24: 対策レベル：有効度大(0.1)=人への依存がほとんど不要(ｲﾝﾀｰﾛｯｸ等) 有効度中(0.3)=一部、人への依存が必要(足場設置、ﾛｯｸｱｳﾄ等)
B25: 2．準備作業～後始末作業まで全ての工程で検討・作成する | F25: 有効度小(0.6)=人の注意力に依存 有効度なし(1)=安全対策なし、保護具のみ→危険源との接触は避けられない
B26: 3．資料項目が多い場合はコピーして作成をして下さい | F26: リスク評価点(残留リスクのレベル)：10点以上 A(高度) 5点以上～10点未満 B(中度) 3点以上～5点未満 C(低度) 3点未満 D(軽微)
A27: リスクアセスメント | L27: ・作業毎のリスク項目を洗い出す。 ・危険源（危険作業）に対してのリスク対策を講じる。
A28: 作業日： | C28: 工期日・工期期間 | L28: 元請会社 | M28: ABC商事（株） | R28: 施工会社 | S28: Tサポート工業 | AV28: 有 | AW28: 無
A29: 工 場： | C29: ●●工場 ●●工程
L30: 元請工事 安全責任者 | M30: 山田 次郎 | R30: 作成者 | S30: 田中 一郎
A31: 工事名： | C31: 給水配管パッキン交換工事（シート2）
A33: No | B33: 作業ごとに詳細のリスク項目 | D33: 危険源 危険 事象 ※１ | E33: リスク低減対策 | M33: リスクの評価 | Q33: 特に注意すべき 残留リスク/事象 | S33: 徹底事項
M35: 危険源・事象の 大きさ | N35: 対策 レベル | O35: 評価点 | P35: ランク
A36: 13 | B36: 作業に使用した工具を床に置き忘れて翌日、他(客先)の作業者が工具につまづく | D36: 8 | E36: 使用後に工具数をチェックし、不足していたら、全員で現場周囲を再点検する | M36: 6 | N36: 0.3 | O36: =M36*N36 -> 1.8 | P36: {=_xlfn.IFS(O36>=10,"A",O36>=5,"B",O36>=3,"C",O36<3,"D")} -> D
A37: 14 | O37: =M37*N37 -> 0 | P37: {=_xlfn.IFS(O37>=10,"A",O37>=5,"B",O37>=3,"C",O37<3,"D")} -> D
A38: 15 | O38: =M38*N38 -> 0 | P38: {=_xlfn.IFS(O38>=10,"A",O38>=5,"B",O38>=3,"C",O38<3,"D")} -> D
A39: 16 | O39: =M39*N39 -> 0 | P39: {=_xlfn.IFS(O39>=10,"A",O39>=5,"B",O39>=3,"C",O39<3,"D")} -> D
A40: 17 | O40: =M40*N40 -> 0 | P40: {=_xlfn.IFS(O40>=10,"A",O40>=5,"B",O40>=3,"C",O40<3,"D")} -> D
A41: 18 | O41: =M41*N41 -> 0 | P41: {=_xlfn.IFS(O41>=10,"A",O41>=5,"B",O41>=3,"C",O41<3,"D")} -> D
A42: 19 | O42: =M42*N42 -> 0 | P42: {=_xlfn.IFS(O42>=10,"A",O42>=5,"B",O42>=3,"C",O42<3,"D")} -> D
A43: 20 | O43: =M43*N43 -> 0 | P43: {=_xlfn.IFS(O43>=10,"A",O43>=5,"B",O43>=3,"C",O43<3,"D")} -> D
A44: 21 | O44: =M44*N44 -> 0 | P44: {=_xlfn.IFS(O44>=10,"A",O44>=5,"B",O44>=3,"C",O44<3,"D")} -> D
...

Sheet （追加）作業指示書
A1: 作 業 指 示 書 | AK1: 元請会社 | AP1: ＡＢＣ商事㈱ | AZ1: 施工会社 | BF1: Ｔサポート工業 | CR1: 2019 | CS1: 2020 | CT1: 2021 | CU1: 2022 | CV1: 2023 | CW1: 2024 | CX1: 2025 | CY1: 2026 | CZ1: 2027 | DA1: 2028 | DB1: 2029
A2: 作業日 | F2: ： | G2: 2024 | K2: 年 | L2: 5 | N2: 月 | O2: 2 | Q2: 日 | T2: ＊高所作業 | AC2: 有 | AF2: 左のセルで有無を選択してください | CR2: 1 | CS2: 2 | CT2: 3 | CU2: 4 | CV2: 5 | CW2: 6 | CX2: 7 | CY2: 8 | CZ2: 9 | DA2: 9 | DB2: 10 | DC2: 11 | DD2: 12 | DE2: 13 | DF2: 14 | DG2: 15 | DH2: 16 | DI2: 17 | DJ2: 18 | DK2: 19 | DL2: 20 | DM2: 21 | DN2: 22 | DO2: 23 | DP2: 24 | DQ2: 25 | DR2: 26 | DS2: 27 | DT2: 28 | DU2: 29 | DV2: 30 | DW2: 31
T3: ＊火気使用 | AC3: 有 | CS3: 〇 | CT3: ×
A4: 工事場所 | F4: ： | G4: 姫路工場 | AK4: 元請工事 安全責任者 | AP4: 中田 次郎 | AZ4: 施工工事 安全責任者 | BF4: 田中 一郎
T5: (危険物施設･火気使用制限場所) | AC5: 無 | CS5: 有 | CT5: 無
A6: 工事名 | F6: : | G6: 給水配管パッキン交換工事 | T6: ＊火気監視者 | Y6: 田中 一郎
A8: No | B8: 作 業 手 順 | V8: 役割分担 (作業者名) | Z8: 危険源（○印） | AI8: 資格者☑ | AJ8: リスクアセスメントを織り込んだ処置事項 作業の要になる重要項目 | BC8: 作業時間(昼休みは除く）
Z9: 高所 | AA9: 感電 | AB9: 挟まれ | AC9: 火気 | AD9: 酸欠 | AE9: 重量 | AF9: 化学物質
A11: 1 | B11: 元栓バルブの閉止 | V11: 田中一郎 | AJ11: ・元栓が閉められているか再確認
A12: 2 | B12: 加圧ポンプ制御盤の電源ロックアウト （錠前掛け） | V12: 全員 | AA12: 〇 | AI12: ☑ | AJ12: ・作業者全員が錠前を制御盤に掛ける
A13: 3 | B13: 使用機材の搬入 | V13: 加藤次郎 鈴木二郎 | AB13: 〇 | AJ13: ・ウエスで水溜りの外から内へ拭き取る ・作業エリアはカラーコーンで区画
A14: 4 | B14: 配管の垂れ下がり防止 | V14: 加藤次郎 鈴木二郎 | AB14: 〇 | AE14: 〇 | AJ14: ・ウエスで水溜りの外から内へ拭き取る ・作業エリアはカラーコーンで区画
A15: 5 | B15: フランジ 解体作業 | V15: 加藤次郎 鈴木二郎 | AB15: 〇 | AE15: 〇 | AI15: ☑ | AJ15: ・事前に準備した1.5ｍの作業台を使用 ・ﾒｶﾞﾈﾚﾝﾁをﾎﾞﾙﾄとﾅｯﾄに両掛けして緩める
A16: 6 | B16: パッキン 交換作業 | V16: 加藤次郎 鈴木二郎 | AB16: 〇 | AI16: ☑ | AJ16: ・フランジ間に挟まれ防止のブロックをかませる ・フランジに接着剤を塗布し、パッキンを貼る
A17: 7 | B17: フランジ 組付作業 | V17: 加藤次郎 鈴木二郎 | AB17: 〇 | AE17: 〇 | AI17: ☑ | AJ17: ・２本のボルトを対角に仮留めする ・ﾒｶﾞﾈﾚﾝﾁをﾎﾞﾙﾄとﾅｯﾄに両掛けして本締め
A18: 8 | B18: 加圧ﾎﾟﾝﾌﾟ制御盤電源投入 （ロックアウト錠前外し、錠前返却） | V18: 全員 | AA18: 〇 | AI18: ☑ | AJ18: ・作業場周囲に他の工事業者がいないか確認後 ロックアウト錠前を開放し電源ON
A19: 9 | B19: 元栓ﾊﾞﾙﾌﾞ開放 | V19: 田中一郎 鈴木二郎 | AB19: 〇 | AJ19: ・フランジ周囲にウエスを巻き付ける ・元栓バルブはゆっくり開放し漏れ確認
A20: 10 | B20: 作業場片付け、工具終了時点検 | V20: 加藤次郎 鈴木二郎 | AB20: 〇 | AJ20: ・垂れ下がり防止用ｻﾎﾟｰﾄ棒はゆっくり下げる ・作業台は地面に寝かせて折り畳む
A21: 11
A22: 12
A24: 作業指示 受領 確認 サイン
A25: 予定した作業方法で問題が発生した場合は、作業を中断して作業責任者に報告する事。
S26: 5/1 | V26: 加藤次郎 | AB26: 5/1 | AD26: 中田 一郎 | AI26: 5/1 | AK26: 鈴木二郎
A27: 注）⓵作業指示受領確認のサインは作業者全員のフルネームを記入 | Y27: ⓶ | AA27: 部は、お昼休み | BN27: 2025.9

Sheet 現地工事作業者名簿
A1: PPES構内作業 | D1: 現地工事作業者名簿(資格表)
AB2: PPES安全協力会
A3: 工 事 名 | B3: 給水配管パッキン交換工事 | O3: 期間 | Q3: 45414 | AA3: ～
A4: 作 業 形 態 | D4: 作 業 者 名 簿 所属会社は左記の記号を記入(A､B､C…)
M5: 出勤表（月/日）○印 | T5: 資 格 （○印）
A6: 工 事 安 全責 任 者 名
A7: 田中 一郎 | D7: 所属会社 | E7: 作業者氏名 （年齢） | T7: 工事安全責任者教育 | U7: 足場組立等作業主任者 | V7: 足場組立等作業指揮者 | W7: 足場組立等作特別教育 | X7: フルハーネス型特別教育 | Y7: 高圧・特別高圧電気特別教育 | Z7: 低圧電気特別教育 | AA7: 電気工事士 | AB7: 高所作業車技能講習 | AC7: 高所作業車特別教育 | AD7: ﾌｫｰｸﾘﾌﾄ技能講習 | AE7: ガス溶接作業主任者 | AF7: アーク溶接特別教育 | AG7: 玉掛け技能講習 | AH7: 玉掛け特別教育 | AI7: ｸﾚｰﾝ運転士免許 | AJ7: 床上操作ｸﾚｰﾝ技能講習 | AK7: ｸﾚｰﾝ特別教育 | AL7: 酸欠作業主任者 | AM7: 酸欠特別教育 | AN7: 特定化学物質作業主任者 | AO7: 有機溶剤作業主任者 | AP7: 危険物取扱者乙4 | AQ7: 振動工具取扱従事者教育
M8: 5
A9: 元 請 会 社 | M9: ／ | N9: ／ | O9: ／ | P9: ／ | Q9: ／ | R9: ／ | S9: ／
A10: ＡＢＣ商事（株） | M10: 2
D11: A | E11: 中田 一郎 | M11: 〇 | T11: 〇 | X11: 〇 | Y11: 〇 | Z11: 〇 | AE11: 〇 | AG11: 〇 | AK11: 〇
J13: ( | K13: 45 | L13: 才）
A14: A 元 方 会 社 | D14: A | E14: 加藤次郎 | M14: 〇 | X14: 〇 | Y14: 〇 | Z14: 〇 | AG14: 〇 | AK14: 〇
A15: Ｔサポート工業
J16: ( | K16: 38 | L16: 才）
D17: B | E17: 鈴木二郎 | M17: 〇 | X17: 〇 | Y17: 〇 | AE17: 〇 | AG17: 〇 | AK17: 〇
J19: ( | K19: 29 | L19: 才）
A22: 二次関係請負人 | J22: ( | L22: 才）
A23: B Mシステム
A25: 労災保険番号:12345678910-000 | J25: ( | L25: 才）
A26: TEL 123-123-1234
A27: C
J28: ( | L28: 才）
A29: 労災保険番号:
A30: TEL
A31: D | J31: ( | L31: 才）
A33: 労災保険番号:
A34: TEL | J34: ( | L34: 才）
A36: 三次関係請負人
A37: B-1 | J37: ( | L37: 才）
A39: 労災保険番号:
A40: TEL | J40: ( | L40: 才）
A43: 労災保険番号: | J43: ( | L43: 才）
A44: TEL
J46: ( | L46: 才）
A47: 労災保険番号:
A48: TEL
J49: ( | L49: 才）
E50: 作業者人数合計
A52: プライムプラネットエナジー＆ソリューションズ株式会社

Sheet KYﾐｰﾃｨﾝｸﾞ
A1: 作 業 開 始 前 ・ K Y ミ ー テ ィ ン グ 実 施 記 録
A3: K Y M 実 施 日 | E3: 工 事 名 | K3: リーダー（作業責任者） | O3: ＫＹ参加人員数
A4: ２０１９年 5 月 ２ 日 | E4: 給水配管パッキン交換工事 | K4: 中田 一郎 | O4: ３人
A5: Ⅰ．KYM（危険予知ミーティング）実施記録 | M5: Ⅲ．ワンポイント（３回指差唱和）
A6: KYMの 進め方 | M6: ヨシ!!
A8: No | B8: 今日の作業はどんな危険があるか （1R） 重要２項目を選びNoに◎をつける（2R） | G8: 危険を事前に防ぐために何をするか （3R） 最も重要な項目に を記入（4Ｒ）
A9: 1 | B9: ～～した時 ～～して ～～になる | G9: ２－１
M10: Ⅳ．タッチアンドコール
A11: 2 | G11: ２－２ | M11: ゼロ災でいこう ヨシ !!
A13: 3 | G13: ２－３
M14: Ⅴ．KYM・健康状態、 作業指示（全員サイン）
A15: 4 | G15: ６－１
M16: 中田 一郎 加藤次郎 鈴木二郎
A17: 5 | G17: ６－２
A18: 6 | G18: ６－３
A19: Ⅱ．今日の行動目標
G23: 【帳票ルート】 作業責任者 → 工事責任者 → 管理者 → 安全担当

Sheet 現地工事作業者名簿 
A1: PPES構内作業 | D1: 現地工事作業者名簿(資格表)
AB2: PPES安全協力会
A3: 工 事 名 | B3: 給水配管パッキン交換工事 | O3: 期間 | Q3: 45414 | AA3: ～
A4: 作 業 形 態 | D4: 作 業 者 名 簿 所属会社は左記の記号を記入(A､B､C…)
M5: 出勤表（月/日）○印 | T5: 資 格 （○印）
A6: 工 事 安 全責 任 者 名
A7: 田中 一郎 | D7: 所属会社 | E7: 作業者氏名 （年齢） | T7: 工事安全責任者教育 | U7: 足場組立等作業主任者 | V7: 足場組立等作業指揮者 | W7: 足場組立等作特別教育 | X7: フルハーネス型特別教育 | Y7: 高圧・特別高圧電気特別教育 | Z7: 低圧電気特別教育 | AA7: 電気工事士 | AB7: 高所作業車技能講習 | AC7: 高所作業車特別教育 | AD7: ﾌｫｰｸﾘﾌﾄ技能講習 | AE7: ガス溶接作業主任者 | AF7: アーク溶接特別教育 | AG7: 玉掛け技能講習 | AH7: 玉掛け特別教育 | AI7: ｸﾚｰﾝ運転士免許 | AJ7: 床上操作ｸﾚｰﾝ技能講習 | AK7: ｸﾚｰﾝ特別教育 | AL7: 酸欠作業主任者 | AM7: 酸欠特別教育 | AN7: 特定化学物質作業主任者 | AO7: 有機溶剤作業主任者 | AP7: 危険物取扱者乙4 | AQ7: 振動工具取扱従事者教育
M8: 5
A9: 元 請 会 社 | M9: ／ | N9: ／ | O9: ／ | P9: ／ | Q9: ／ | R9: ／ | S9: ／
A10: ＡＢＣ商事（株） | M10: 1
D11: A | E11: 中田 一郎 | M11: 〇 | T11: 〇 | X11: 〇 | Y11: 〇 | Z11: 〇 | AE11: 〇 | AG11: 〇 | AK11: 〇
J13: ( | K13: 45 | L13: 才）
A14: A 元 方 会 社 | D14: A | E14: 加藤次郎 | M14: 〇 | X14: 〇 | Y14: 〇 | Z14: 〇 | AG14: 〇 | AK14: 〇
A15: Ｔサポート工業
J16: ( | K16: 38 | L16: 才）
D17: B | E17: 鈴木二郎 | M17: 〇 | X17: 〇 | Y17: 〇 | AE17: 〇 | AG17: 〇 | AK17: 〇
J19: ( | K19: 29 | L19: 才）
A22: 二次関係請負人 | J22: ( | L22: 才）
A23: B Mシステム
A25: 労災保険番号:12345678910-000 | J25: ( | L25: 才）
A26: TEL 123-123-1234
A27: C
J28: ( | L28: 才）
A29: 労災保険番号:
A30: TEL
A31: D | J31: ( | L31: 才）
A33: 労災保険番号:
A34: TEL | J34: ( | L34: 才）
A36: 三次関係請負人
A37: B-1 | J37: ( | L37: 才）
A39: 労災保険番号:
A40: TEL | J40: ( | L40: 才）
A43: 労災保険番号: | J43: ( | L43: 才）
A44: TEL
J46: ( | L46: 才）
A47: 労災保険番号:
A48: TEL
J49: ( | L49: 才）
E50: 作業者人数合計
A52: プライムプラネットエナジー＆ソリューションズ株式会社

Sheet ④火気使用許可申請書※火気使用時のみ
B1: 令和 年 月 日 提出
C2: 火気使用許可申請書 | S2: 火気使用を許可します | X2: 防火管理者 許可印
B3: プライムプラネットエナジー＆ソリューションズ㈱ | Q3: ABC商事 （株） | T3: 殿
B4: 西神地区 防火管理者 殿 | X4: 月 日
F5: 所属（部門） | Q5: 但し、下記事項を遵守願います。
F6: 部署（課） | K6: 施設設備・環境管理G | Q6: 火気使用申請前に行うことがら、火花を発生させない
F7: 使用部署責任者 | K7: 姫路 三郎 | O7: 印 | Q7: 工法・工具を検討し、結果を申請書へ記入すること
Q8: １．火気使用前に行うことがら １）火気は、極力、建屋外で使用し、建屋内で使用しないこと。 ２）申請部門は工事業者に対し、過去の代表的な事故事例を説明し注意喚起すること。 ３）消火器・防火バケツを準備し、消火の為の措置を行うこと。 ４）近くの危険物、可燃物の除去を行うこと。特に、燃料、発泡スチロール、 引火性薬品、塗料、紙類 等は注意。 ５）可燃物を、不燃シート等で囲い火花飛散防止を行うこと。 ６）換気の確保を行うこと。 ７）熱感知器、煙感知器の位置確認を行うこと。 ８）申請部門と工事業者の両者で、発火・発煙事故の対策を現場で確認すること。 ２．火気使用中実施して頂くことがら １）施工責任者が「火気使用許可証」の腕章をつけ常時立ち会うこと。 ２）可燃性ガスによる溶接、溶断、加熱作業は原則として有資格者にて行うこと。 ３）可燃性ガスボンベは、必ず転倒防止又は、ころがり防止を措置すること。 ４）適宜周囲に水を撒くこと（室内での水撒きは不要、また周囲に水と反応する 物質等が無いかを十分に確認すること） ３．火気使用後に行うことがら １）火気使用が終了したとき施工責任者と火気責任者がともに安全を確認すること。 ２）現状復帰と、整理・整頓・清掃を行うこと。 ３）火気使用後３０分後に火気使用場所を再度点検し、火の気・異臭・煙がないか 確認すること。 ４）防火管理者への終了報告と「火気使用許可証」の返却。 ５）煙充満の際には、作業を停止し換気を実施すること。また、煙が充満せぬように 換気能力の強化をおこなうこと。
B9: 下記内容の工事におきまして、火気を使用しますので申請致します。
B10: 尚、使用に際しましては、定められた事柄を遵守し、爆発・火災防止は
B11: もちろんのこと、火災警報機の「非火災鳴動」に注意し対処致します。
B13: 火気使用責任者 | C13: 飾磨 一郎
B15: 施工会社名 | C15: ABC商事 （株）
B17: 施工責任者名 | C17: 中田 一郎
B19: 火気内容(種類) | C19: フランジ固着時加熱に使用
B21: 工事名称と概要 | C21: 名称 | F21: 給水配管パッキン交換工事
C22: 概要 | F22: パッキン交換
B23: 使用場所 | C23: 101室
B25: 使用時間 | C25: 5 | D25: 月 | E25: 2 | F25: 日 | G25: ( | H25: 木 | I25: 曜日) | J25: 9 | K25: 時 | L25: 0 | M25: 分から
B26: (1日を越える場合、 | C26: 5 | D26: 月 | E26: 2 | F26: 日 | G26: ( | H26: 木 | I26: 曜日) | J26: 15 | K26: 時 | L26: 0 | M26: 分まで
B27: 別途計画書提出) | C27: ※数字は半角で入力
B28: 火災に対する措置等 | C28: 消火器・水バケツ用意、可燃物の除去
C29: 火元監視人配置、不燃シートによる防火養生実施
B30: 火花を発生させない 工法・工具の検討結果 | C30: 必要最小限の部位のみ加熱
F32: 防火管理者 | K32: 月 日 | N32: 腕章 No. | Q32: ４．使用部署の緊急連絡先
F33: 印
Q34: 【担当者連絡先】 | S34: 姫路 三郎 | U34: TEL. | V34: ０００－００００－００００
Q36: 【責任者連絡先】 | S36: 兵庫 太郎 | U36: TEL. | V36: ０００－００００－００００
Q38: 以上、ご協力をお願いします

Sheet 安全解除&危険物取扱(KY)
B2: 安全装置解除 or 危険物取扱い作業 事前危険予知（ＫＹ）記録表 | W2: 作成日： | Z2: 年 月 日
W3: 会社名：
B4: 作業日（最長1週間） | G4: 年 月 日（ ）～ 月 日（ ） | P4: 工事安全 責任者 | R4: メーカー 担当 | U4: PPES | AB4: 復旧後 PPES確認
B5: 作業時間 | G5: 〇時〇分～〇時〇分 | U5: 室長 | W5: GM | Y5: 担当
B6: 設備名
B7: 作業者名
B9: 工事安全責任者
B10: 監視人連絡先 | O10: 安全 解除 | P10: 危険物 取扱 | Q10: 事前）確認項目
B12: ＫＹ実施メンバ | O12: □ | P12: － | Q12: 本当に安全装置の解除が必要な作業か
O13: □ | P13: － | Q13: 安全装置の解除範囲は適正か
O14: □ | P14: □※1 | Q14: 全ての危険源がリスク対策書に挙げられているか（リスク対策書確認）
O15: □ | P15: □※1 | Q15: リスク対策書に正しい作業内容が記されているか（リスク対策書確認）
B16: 注意） | O16: － | P16: □ | Q16: 作業者全員事前に要領書等を元に教育を実施済みか（資格有無も合せて確認）
B17: 本帳票は装置立上げ時にPPESメンバーのみで行う作業でも提出のこと | O17: 安全 解除 | P17: 危険物 取扱 | Q17: 現地作業前）確認項目
O18: □ | P18: □ | Q18: 作業前ＫＹは正しく実施されているか（記録表確認）
O19: □ | P19: － | Q19: 監視人は作業内容を理解しているか（ヒアリング）
B20: 対象の危険物例）NMP、スラリー、電解液、窒素など | O20: □ | P20: － | Q20: 監視位置から作業が視認できるか
D21: （目安10L以上の漏洩リスクがある作業） | O21: □ | P21: － | Q21: 監視人は非常停止ボタンに手を掛けながら監視できるか
O22: － | P22: □ | Q22: 危険物扱いの場合、適切な資格所有者が立ち会うか
O23: □ | P23: □ | Q23: 関係者以外進入防止の措置はできているか（囲い等）
P24: ※1 作業要領書ある場合はリスク対策書不要（要領書に記載あるため）
B25: No. | C25: 安全装置解除 or 危険物取扱い作業内容 | H25: 作業者名 | K25: その作業での危険要因 下記作業内容をする時に 「～なので～して～になる」の形で具体的に記入する | U25: 安全対策 （私たちはこうする）
B28: 1
B31: 2
B34: 3
B37: 4

Sheet 安全装置解除(KY)
B2: 安全装置解除作業 事前危険予知（ＫＹ）記録表
W3: 作成日： | Z3: 年 月 日
B4: 作業日（最長1週間） | G4: 年 月 日（ ）～ 月 日（ ） | W4: 会社名：
B5: 作業時間 | G5: 〇時〇分～〇時〇分 | P5: PPES責任者 | T5: 工事安全責任者 | W5: 作成 | AA5: 復旧後確認
B6: 設備名
B7: 作業者名
B9: 工事安全責任者 | P9: ※室長以上 | AA9: ※PPES担当者
B10: 監視人連絡先 | P10: 確 認 項 目
O11: □ | P11: 本当に安全装置の解除が必要な作業か
B12: ＫＹ実施メンバ | O12: □ | P12: 安全装置の解除範囲は適正か
O13: □ | P13: 全ての危険源がリスク対策書に挙げられているか（リスク対策書確認）
O14: □ | P14: リスク対策書に正しい作業内容が記されているか（リスク対策書確認）
O15: □ | P15: 作業前ＫＹは正しく実施されているか（記録表確認）
O16: □ | P16: 監視人は作業内容を理解しているか（ヒアリング）
O17: □ | P17: 監視位置から作業が視認できるか
O18: □ | P18: 監視人は非常停止ボタンに手を掛けながら監視できるか
O19: □ | P19: 関係者以外進入防止の措置はできているか（囲い等）
B20: No. | C20: 安全装置解除 作業内容 | H20: 作業者名 | K20: その作業での危険要因 下記作業内容をする時に 「～なので～して～になる」の形で具体的に記入する | U20: 安全対策 （私たちはこうする）
B23: 1
B26: 2
B29: 3
B32: 4
